



BEGIN:VCALENDAR
VERSION:2.0
PRODID:-//Rendez-vous santé - ECPv5.8.1//NONSGML v1.0//EN
CALSCALE:GREGORIAN
METHOD:PUBLISH
X-WR-CALNAME:Rendez-vous santé
X-ORIGINAL-URL:https://rdvsante.ch
X-WR-CALDESC:évènements pour Rendez-vous santé
BEGIN:VTIMEZONE
TZID:Europe/Zurich
BEGIN:DAYLIGHT
TZOFFSETFROM:+0100
TZOFFSETTO:+0200
TZNAME:CEST
DTSTART:20200329T010000
END:DAYLIGHT
BEGIN:STANDARD
TZOFFSETFROM:+0200
TZOFFSETTO:+0100
TZNAME:CET
DTSTART:20201025T010000
END:STANDARD
END:VTIMEZONE
BEGIN:VEVENT
DTSTART;TZID=Europe/Zurich:20200206T093000
DTEND;TZID=Europe/Zurich:20200206T170000
DTSTAMP:20260421T191717
CREATED:20200126T142159Z
LAST-MODIFIED:20200212T223548Z
UID:29378-1580981400-1581008400@rdvsante.ch
SUMMARY:16th Swiss Experimental Surgery Symposium (tout public)
DESCRIPTION:Swiss Experimental Surgery Symposium\nLe symposium suisse de chirurgie expérimentale permet à des investigateurs venant de toute la Suisse de venir présenter les résultats de leurs travaux d’investigations touchant\, notamment\, au Gut-Liver Axis\, à la régénération hépatique\, à l’oncologie digestive\, à l’anesthésie chez le gros animal\, et au système cardiovasculaire. \nProgramme:  \n09h00 Introduction par le Pr C. Toso \n9h35 Cardio-Vascular Surgery and Anesthesia \navec F.Allagnat\, R.Emsley\, A.Longchamp\, P.Reymond et A. Dos Santos Rocha \n10h50 Pause Café \n11h00 Research in Visceral Surgery in Zürich \navec M.Müller\, S. Steiner\, D. Gero et D.Birrer \n12h00 Pause repas \n13h00 The 3R in the 2020s \navec F. Schütz \n13h30  Tissue Regeneration and Cell-based Therapy  \navec T. Laumonier\, F. Baier\, C.-H Wassmer\, A. Sepiol\, A. Balaphas et N. Dommann \n15h00 Pause Café \n15h15 Gut-Liver Axis and Microbiome Research \navec A. Peloso\, M. Abbas\, S. Lacotte et B. Möckli \n16h15 Closing Remarks and Farewell \n  \nCommentaire: \n\n\nJe pense que c’est le programme le plus complet sur ce qu’il se fait sur le système cardio-vasculaire autant en clinique qu’en recherche au niveau Suisse.  Pour les curieux ne rater pas ce rendez-vous. \nEntrée libre \nPublic : médecins\, infirmier\, pharmacien\, patient \n\n\n 
URL:https://rdvsante.ch/event/16th-swiss-experimental-surgery-symposium-tout-public/
LOCATION:HUG – Centre de l’innovation HUG\, bâtiment Gustave Julliard étage 0\, Rue Alcide-Jentzer 17\, Genève\, Genève\, 1205\, Suisse
CATEGORIES:Formations Foederatio Pharmaceutica Helvetiae
ATTACH;FMTTYPE=image/png:https://rdvsante.ch/wp-content/uploads/2020/01/Capture5-e1580668895813.png
END:VEVENT
END:VCALENDAR