



BEGIN:VCALENDAR
VERSION:2.0
PRODID:-//Rendez-vous santé - ECPv5.8.1//NONSGML v1.0//EN
CALSCALE:GREGORIAN
METHOD:PUBLISH
X-WR-CALNAME:Rendez-vous santé
X-ORIGINAL-URL:https://rdvsante.ch
X-WR-CALDESC:évènements pour Rendez-vous santé
BEGIN:VTIMEZONE
TZID:Europe/Zurich
BEGIN:DAYLIGHT
TZOFFSETFROM:+0100
TZOFFSETTO:+0200
TZNAME:CEST
DTSTART:20190331T010000
END:DAYLIGHT
BEGIN:STANDARD
TZOFFSETFROM:+0200
TZOFFSETTO:+0100
TZNAME:CET
DTSTART:20191027T010000
END:STANDARD
END:VTIMEZONE
BEGIN:VEVENT
DTSTART;TZID=Europe/Zurich:20191219T160000
DTEND;TZID=Europe/Zurich:20191219T163000
DTSTAMP:20260421T113157
CREATED:20191202T111919Z
LAST-MODIFIED:20191227T165147Z
UID:29035-1576771200-1576773000@rdvsante.ch
SUMMARY:Leçon publique. Nomination professorale au Département de pédiatrie\, gynécologie et obstétrique
DESCRIPTION:Survivre à la naissance ?\nIntéressé par la naissance\, la pédiatrie. Cette leçon publique est pour toi !
URL:https://rdvsante.ch/event/19-decembre-lecon-publique-nomination-professorale-au-departement-de-pediatrie-gynecologie-et-obstetrique/
LOCATION:CMU – C150\, Rue Michel-Servet 1\, Genève\, Genève\, 1206\, Suisse
END:VEVENT
END:VCALENDAR