



BEGIN:VCALENDAR
VERSION:2.0
PRODID:-//Rendez-vous santé - ECPv5.8.1//NONSGML v1.0//EN
CALSCALE:GREGORIAN
METHOD:PUBLISH
X-WR-CALNAME:Rendez-vous santé
X-ORIGINAL-URL:https://rdvsante.ch
X-WR-CALDESC:évènements pour Rendez-vous santé
BEGIN:VTIMEZONE
TZID:Europe/Zurich
BEGIN:DAYLIGHT
TZOFFSETFROM:+0100
TZOFFSETTO:+0200
TZNAME:CEST
DTSTART:20210328T010000
END:DAYLIGHT
BEGIN:STANDARD
TZOFFSETFROM:+0200
TZOFFSETTO:+0100
TZNAME:CET
DTSTART:20211031T010000
END:STANDARD
END:VTIMEZONE
BEGIN:VEVENT
DTSTART;TZID=Europe/Zurich:20210301T201500
DTEND;TZID=Europe/Zurich:20210301T210000
DTSTAMP:20260421T174859
CREATED:20210223T082011Z
LAST-MODIFIED:20210223T102601Z
UID:31210-1614629700-1614632400@rdvsante.ch
SUMMARY:Maintenir la souplesse des articulations !
DESCRIPTION:L’entreprise ebi-pharm a été fondée en 1988 avec pour objectif de créer un lien entre la médecine académique conventionnelle et la médecine expérimentale. \n					ebi-pharm\n					 \n				 \n			 \n			 \n				\n				\n				\n				\n				\n				Maintenir la souplesse des articulations !\nLes articulations jouent un rôle très important dans notre vie. Chaque jour\, elles sont sollicitées et perdent parfois de leur mobilité avec l’âge. De nombreux patients se plaignent de fortes douleurs et doivent parfois se résoudre à la pose d’une prothèse.Dans ce webinaire\, vous découvrirez plusieurs excellentes substances qui maintiennent la souplesse des articulations et qui apportent un soulagement en cas de douleurs. Vos connaissances concernant la chondroïtine et le sulfate de glucosamine seront rafraîchies. Vous découvrirez également d’autres substances intéressantes qui nourrissent le cartilage et contribuent ainsi au fonctionnement normal des articulations.Nous vous présenterons des nouveaux micronutriments et un complexe homéopathique pour soulager vos patients quotidiennement. \nAnimateur(trice): \nSimone El Alaili\, pharmacienne & herboriste\, Medical Advisor chez ebi-pharm ag \n\n\nPublic : pharmacien.ne\, droguiste \nCe webinaire a été validé par la ASD et si vous participez activement\, vous obtiendrez un point. \n  \nRetour sur les autres événements de santé : www.rdvsante.ch \n\n\n  \n \n \n 
URL:https://rdvsante.ch/event/31210/
LOCATION:Swisswebinar
ATTACH;FMTTYPE=image/jpeg:https://rdvsante.ch/wp-content/uploads/2020/06/ebipharm.jpg
END:VEVENT
END:VCALENDAR