



BEGIN:VCALENDAR
VERSION:2.0
PRODID:-//Rendez-vous santé - ECPv5.8.1//NONSGML v1.0//EN
CALSCALE:GREGORIAN
METHOD:PUBLISH
X-WR-CALNAME:Rendez-vous santé
X-ORIGINAL-URL:https://rdvsante.ch
X-WR-CALDESC:évènements pour Rendez-vous santé
BEGIN:VTIMEZONE
TZID:Europe/Zurich
BEGIN:DAYLIGHT
TZOFFSETFROM:+0100
TZOFFSETTO:+0200
TZNAME:CEST
DTSTART:20200329T010000
END:DAYLIGHT
BEGIN:STANDARD
TZOFFSETFROM:+0200
TZOFFSETTO:+0100
TZNAME:CET
DTSTART:20201025T010000
END:STANDARD
END:VTIMEZONE
BEGIN:VEVENT
DTSTART;TZID=Europe/Zurich:20201210T083000
DTEND;TZID=Europe/Zurich:20201210T123000
DTSTAMP:20260421T215015
CREATED:20201128T083845Z
LAST-MODIFIED:20201128T110110Z
UID:30729-1607589000-1607603400@rdvsante.ch
SUMMARY:Accompagnement des apprenants: Module pratique 1 - Coaching: appropriation et approfondissement (postgrade 4.1)
DESCRIPTION:INNOVATION \, EXCELLENCE et CONVIVIALITE! \n					Devise du CAP\n					 \n				 \n			 \n			 \n				\n				\n				\n				\n				\n				Accompagnement des apprenants: Module pratique 1 – Coaching: appropriation et approfondissement (postgrade 4.1)\nObjectifs: \nCours de cadre : ouvert à toutes les personnes en charge des apprenants de l’officine – pharmacien/ne/s\, assistant/e/s ou assistant/e/s de gestion\, cadres formateurs. \nModule de mise en pratique des notions de coaching apprises dans le cours de base « Accompagner efficacement les apprenti/e/s et les apprenants de l’officine ». Concerne l’accompagnement de tous les types d’apprenants : apprenti\, étudiant en année d’assistanat ou pharmacien candidat à la formation postgrade. \nA l’issue de cette formation\, le participant sera capable de : \n\nconduire avec confiance et agilité un entretien de coaching selon la méthode SolutionSurfers®\n\n  \nAnimateur(trice): \nOdile Criblez Gruaz\, Master en sciences économiques\, coach et formatrice FSEA en entreprise\, fondatrice et associée Easyformation et Blaise Vuillaume\, coach et formateur BFFA en entreprise\, commissaire d’apprentissage\, mentor de formateurs d’apprenti-e-s en entreprise\, expert aux examens de formateurs en entreprise (DFE)\, fondateur et associé Easyformation \n\n\nPrix : \nCHF 250.- pour les membres du CAP \nCHF 300.- pour les non-membres \nInscription : \nSecrétariat du CAP\, Juste Olivier 16\, 1260 Nyon\, tél. 022 363 00 80\, fax 022 363 00 85 \nhttps://www.pharmacap.ch/fr/programme_d_activites.html \nPublic : pharmacien.ne \nAccréditation: \nPoints FPH 25 \n  \nRetour sur les autres événements de santé : www.rdvsante.ch \n\n\n 
URL:https://rdvsante.ch/event/accompagnement-des-apprenants-module-pratique-1/
LOCATION:Conférence ZOOM
ATTACH;FMTTYPE=image/jpeg:https://rdvsante.ch/wp-content/uploads/2020/02/cap-1.jpg
END:VEVENT
END:VCALENDAR