



BEGIN:VCALENDAR
VERSION:2.0
PRODID:-//Rendez-vous santé - ECPv5.8.1//NONSGML v1.0//EN
CALSCALE:GREGORIAN
METHOD:PUBLISH
X-WR-CALNAME:Rendez-vous santé
X-ORIGINAL-URL:https://rdvsante.ch
X-WR-CALDESC:évènements pour Rendez-vous santé
BEGIN:VTIMEZONE
TZID:Europe/Zurich
BEGIN:DAYLIGHT
TZOFFSETFROM:+0100
TZOFFSETTO:+0200
TZNAME:CEST
DTSTART:20200329T010000
END:DAYLIGHT
BEGIN:STANDARD
TZOFFSETFROM:+0200
TZOFFSETTO:+0100
TZNAME:CET
DTSTART:20201025T010000
END:STANDARD
END:VTIMEZONE
BEGIN:VEVENT
DTSTART;TZID=Europe/Zurich:20201007T083000
DTEND;TZID=Europe/Zurich:20201007T123000
DTSTAMP:20260421T191344
CREATED:20201007T130557Z
LAST-MODIFIED:20201007T130600Z
UID:30519-1602059400-1602073800@rdvsante.ch
SUMMARY:AllergoTest
DESCRIPTION:Notre perception de nous-mêmes\n\n\nGalenica est une entreprise dynamique qui \n\nfaçonne le marché de la santé suisse du futur par l’innovation\,\nest un partenaire et un employeur fiable et attrayant\, et\na pour objectif de générer des rendements fiables et attrayants en prenant des risques calculables.\n\n \n					Ambitions et stratégies de Galenica\n					Galenica \n				 \n			 \n			 \n				\n				\n				\n				\n				\n				AllergoTest\nDescription: \nEn partenariat avec le Centre d’Allergie Suisse\, vous allez proposer à vos clientes et clients le service AllergoTest. Lors de cette formation présentielle d’une demi-journée\, vous allez acquérir toutes les connaissances de base pour fournir ce service avec succès dans votre pharmacie.Cette formation est un atelier d‘une demi-journée destiné aux pharmacies…– qui proposent le service AllergoTest– qui souhaitent offrir le AllergoTest de manière compétente– qui désirent se démarquer de la concurrence par leur compétence \nAnimateur(trice): \nSabina Glättli  \n\n\nPrix : \nCHF 300 \nInscription : \ntrainingretail@galenicare.com \nPublic : pharmacien.ne \nAccréditation: \nPoints FPH 25 \n  \nRetour sur les autres événements de santé : www.rdvsante.ch \n\n\n 
URL:https://rdvsante.ch/event/allergotest/
LOCATION:Auberge des Grands Bois Buchillon\, Route des Grands-Bois 10\, Buchillon\, Vaud\, 1164\, Suisse
ATTACH;FMTTYPE=image/jpeg:https://rdvsante.ch/wp-content/uploads/2020/10/galenica.jpg
ORGANIZER;CN="Galenica":MAILTO:trainingretail@galenicare.com
END:VEVENT
END:VCALENDAR