



BEGIN:VCALENDAR
VERSION:2.0
PRODID:-//Rendez-vous santé - ECPv5.8.1//NONSGML v1.0//EN
CALSCALE:GREGORIAN
METHOD:PUBLISH
X-WR-CALNAME:Rendez-vous santé
X-ORIGINAL-URL:https://rdvsante.ch
X-WR-CALDESC:évènements pour Rendez-vous santé
BEGIN:VTIMEZONE
TZID:Europe/Zurich
BEGIN:DAYLIGHT
TZOFFSETFROM:+0100
TZOFFSETTO:+0200
TZNAME:CEST
DTSTART:20200329T010000
END:DAYLIGHT
BEGIN:STANDARD
TZOFFSETFROM:+0200
TZOFFSETTO:+0100
TZNAME:CET
DTSTART:20201025T010000
END:STANDARD
END:VTIMEZONE
BEGIN:VEVENT
DTSTART;TZID=Europe/Zurich:20200619T133000
DTEND;TZID=Europe/Zurich:20200619T173000
DTSTAMP:20260421T142950
CREATED:20200512T221141Z
LAST-MODIFIED:20200512T221145Z
UID:30079-1592573400-1592587800@rdvsante.ch
SUMMARY:Anamnèse clinique et diagnostique : Partie pratique - Otoscopie et pratique du frottis de gorge en officine
DESCRIPTION:INNOVATION \, EXCELLENCE et CONVIVIALITE! \n					Devise du CAP\n					 \n				 \n			 \n			 \n				\n				\n				\n				\n				\n				Anamnèse clinique et diagnostique : Partie pratique – Otoscopie et pratique du frottis de gorge en officine\nObjectifs: \nSémiologie ORL\, basée sur les vignettes cliniques fréquentes en officine.Introduction générale au diagnostic différentiel des otalgies\, angines et douleurs pharyngées.Pratiquer une otoscopie et décrire les éléments observés.Analyse des éléments anamnestiques spécifiques et mise en relation avec l’otoscopie.Pratiquer un frottis de gorge et savoir évaluer le résultat.Analyse des éléments anamnestiques spécifiques avec l’examen physique.Analyse et évaluation des « red flags » de la sphère ORL. \nA l’issue de ce cours\, les participants seront capables de : \n\ndécrire l’anatomie générale de la sphère ORL\ndécrire l’anatomie de l’oreille externe\, moyenne et interne\nexpliquer les rapports anatomiques locaux de la sphère ORL\nmener une anamnèse générale axée sur la sphère ORL\nutiliser de manière judicieuse les « red flags » de la sphère ORL\npalper les ganglions cervicaux de la sphère ORL\nconnaître les éléments techniques du frottis de gorges (microbiologie\, limitations\, etc.) et de l’otoscopie \nreconnaître les tableaux cliniques nécessitant une otoscopie\nénumérer les principaux diagnostics sous-jacents à une otalgie\nmotiver le diagnostic différentiel des otalgies\ndifférencier les différents types de surdité\npratiquer un examen d’otoscopie et décrire les différents éléments à reconnaître \nreconnaître les tableaux cliniques nécessitant un frottis de gorge\nénumérer les principaux diagnostics sous-jacents aux angines et douleurs pharyngées\nmotiver le diagnostic différentiel des angines et symptômes pharyngées\nexpliquer les tableaux cliniques en fonction de l’âge du patient\nexaminer la gorge et pratiquer un frottis de gorge\n interpréter les résultats du frottis de gorge (faux positifs\, faux négatifs\, etc.) \nétablir une liste de priorités\nformuler une hypothèse de travail\nproposer un traitement ciblé\nreconnaître les urgences médicales liées aux otalgies\nreconnaître les urgences médicales liées aux angines et douleurs pharyngées\névaluer la nécessité de référer le patient à un spécialiste\n\n  \nAnimateur(trice): \nDr med. MSc FACP Jan von Overbeck\, FMH médecine interne\, FMH maladies infectieuses\, MSc London School of Hygiene and tropical medicine\, Médecinconseil\, Fellow of American college of physicians (FACP) \n\n\nPrix :CHF 200.- pour les membres du CAP \nCHF 240.- pour les non-membres \nInscription : \nSecrétariat du CAP\, Juste Olivier 16\, 1260 Nyon\, tél. 022 363 00 80\, fax 022 363 00 85 \nhttps://www.pharmacap.ch/fr/programme_d_activites.html \nPublic : pharmacien.ne \nAccréditation: \nPoints FPH 25 \n  \nRetour sur les autres événements de santé : www.rdvsante.ch \n\n\n 
URL:https://rdvsante.ch/event/anamnese-clinique-et-diagnostique-partie-pratique-otoscopie-et-pratique-du-frottis-de-gorge-en-officine/
LOCATION:Manoir de la Pointe\, Rue Forel 15\, St-Prex\, Vaud\, 1162\, Suisse
ATTACH;FMTTYPE=image/jpeg:https://rdvsante.ch/wp-content/uploads/2020/02/cap-1.jpg
END:VEVENT
END:VCALENDAR