



BEGIN:VCALENDAR
VERSION:2.0
PRODID:-//Rendez-vous santé - ECPv5.8.1//NONSGML v1.0//EN
CALSCALE:GREGORIAN
METHOD:PUBLISH
X-WR-CALNAME:Rendez-vous santé
X-ORIGINAL-URL:https://rdvsante.ch
X-WR-CALDESC:évènements pour Rendez-vous santé
BEGIN:VTIMEZONE
TZID:Europe/Zurich
BEGIN:DAYLIGHT
TZOFFSETFROM:+0100
TZOFFSETTO:+0200
TZNAME:CEST
DTSTART:20200329T010000
END:DAYLIGHT
BEGIN:STANDARD
TZOFFSETFROM:+0200
TZOFFSETTO:+0100
TZNAME:CET
DTSTART:20201025T010000
END:STANDARD
END:VTIMEZONE
BEGIN:VEVENT
DTSTART;TZID=Europe/Zurich:20200617T083000
DTEND;TZID=Europe/Zurich:20200617T123000
DTSTAMP:20260421T124744
CREATED:20200512T213812Z
LAST-MODIFIED:20200512T213815Z
UID:30055-1592382600-1592397000@rdvsante.ch
SUMMARY:Anamnèse en soins primaires : Partie pratique. Examens et observations cliniques en officine
DESCRIPTION:INNOVATION \, EXCELLENCE et CONVIVIALITE! \n					Devise du CAP\n					 \n				 \n			 \n			 \n				\n				\n				\n				\n				\n				Anamnèse en soins primaires : Partie pratique. Examens et observations cliniques en officine\nObjectifs: \nCours réservé aux personnes ayant validé les cours I et II – Anamnèse en soins primaires – Théorie. \nPartie pratique du Certificat FPH « Anamnèse en soins primaires » – ½ journée \nIntroduction générale à l’examen physique en officine et mise en contexte avec une anamnèse ciblée. \nObservations et descriptions des lésions dermatologiques et ophtalmiques vues en officine. \nDescription et analyse de signes cliniques observables au premier coup d’œil à l’officine. \nExamen paraclinique en officine (CRP\, urine\, chimie\, etc.) et mise en contexte avec l’anamnèse ciblée. \nDocumentation et transmission adéquates d’informations (formulaires\, prise de photos\, notices). \nÉtablissement d’une liste d’options et d’actions nécessaires\, selon nécessité. \nAnalyse et évaluation des « red flags » en fonction des différentes vignettes cliniques\, ainsi que des situations à risques et des mesures d’urgences. \n  \nAnimateur(trice): \nDr med. MSc FACP Jan von Overbeck\, FMH médecine interne\, FMH maladies infectieuses\, MSc London School of Hygiene and tropical medicine\, Médecinconseil\, Fellow of American college of physicians (FACP) \n\n\nPrix :CHF 200.- pour les membres du CAP \nCHF 240.- pour les non-membres \nInscription : \nSecrétariat du CAP\, Juste Olivier 16\, 1260 Nyon\, tél. 022 363 00 80\, fax 022 363 00 85 \nhttps://www.pharmacap.ch/fr/programme_d_activites.html \nPublic : pharmacien.ne \nAccréditation: \nPoints FPH 25 \n  \nRetour sur les autres événements de santé : www.rdvsante.ch \n\n\n 
URL:https://rdvsante.ch/event/anamnese-en-soins-primaires-partie-pratique-examens-et-observations-cliniques-en-officine/
LOCATION:Manoir de la Pointe\, Rue Forel 15\, St-Prex\, Vaud\, 1162\, Suisse
ATTACH;FMTTYPE=image/jpeg:https://rdvsante.ch/wp-content/uploads/2020/02/cap-1.jpg
END:VEVENT
END:VCALENDAR