



BEGIN:VCALENDAR
VERSION:2.0
PRODID:-//Rendez-vous santé - ECPv5.8.1//NONSGML v1.0//EN
CALSCALE:GREGORIAN
METHOD:PUBLISH
X-WR-CALNAME:Rendez-vous santé
X-ORIGINAL-URL:https://rdvsante.ch
X-WR-CALDESC:évènements pour Rendez-vous santé
BEGIN:VTIMEZONE
TZID:Europe/Zurich
BEGIN:DAYLIGHT
TZOFFSETFROM:+0100
TZOFFSETTO:+0200
TZNAME:CEST
DTSTART:20210328T010000
END:DAYLIGHT
BEGIN:STANDARD
TZOFFSETFROM:+0200
TZOFFSETTO:+0100
TZNAME:CET
DTSTART:20211031T010000
END:STANDARD
END:VTIMEZONE
BEGIN:VEVENT
DTSTART;TZID=Europe/Zurich:20210209T090000
DTEND;TZID=Europe/Zurich:20210209T170000
DTSTAMP:20260421T204445
CREATED:20210131T093616Z
LAST-MODIFIED:20210131T093619Z
UID:31184-1612861200-1612890000@rdvsante.ch
SUMMARY:Anamnèse fondements : Partie théorique du Certificat FPH – Jour 2 (Postgrade 1.5)
DESCRIPTION:INNOVATION \, EXCELLENCE et CONVIVIALITE! \n					Devise du CAP\n					 \n				 \n			 \n			 \n				\n				\n				\n				\n				\n				Anamnèse fondements : Partie théorique du Certificat FPH – Jour 2 (Postgrade 1.5)\nObjectifs: \nA l’issue de ce cours\, les participants seront capables de : \n\ndécrire ce qu’est une anamnèse en santé primaire\nénumérer les principaux éléments de l’anamnèse (symptôme principal\, antécédents\, environnement socio-professionnel\, prédispositions familiales\, etc.)\ndécrire les différentes techniques de l’anamnèse (communication\, valeur prédictive\, « red flags »\, etc.)\nmener une anamnèse générale axée sur les problèmes\nutiliser de manière judicieuse les « red flags »\, check-list et algorithmes en officine\ndécrire les principes de prévention primaire (vaccination\, tension artérielle\, etc.)\nanalyser les éléments anamnestiques recueillis\napprofondir une anamnèse en fonction du problème médical\nstructurer l’anamnèse générale ainsi que l’anamnèse ciblée par système\ndocumenter l’anamnèse en officine\nétablir une liste de priorités\nformuler une hypothèse de travail\napprécier les situations gérables en officine (utilisation de la liste B+)\nreconnaître les urgences médicales\n\nContenu . \nIntroduction générale du processus anamnestique en santé primaire. \nSémiologie générale et anamnèse\, basée sur les vignettes cliniques fréquentes en officine \nAnalyse des éléments anamnestiques généraux et systématiques\, afin d’établir un triage. \nAnalyse et évaluation des « red flags » en fonction des différentes vignettes cliniques. \nGrande importance donnée aux cas cliniques rencontrés en officine. \nUtilisation de la liste B+ \nAnimateur(trice): \nDr med. MSc FACP Jan von Overbeck\, FMH médecine interne\, FMH maladies infectieuses\, MSc London School of Hygiene and tropical medicine\, Médecinconseil\, Fellow of American college of physicians (FACP \n\n\nPrix :CHF 400 (tarif visioconférence 320) .- pour les membres du CAP \nCHF 480 (tarif visioconférence 390) .- pour les non-membres \n\n\n  \nLes participants recevront par e-mail\, 10 jours avant le cours\, des documents qui devront être lus avant le début du cours. \n\n\nInscription : \nSecrétariat du CAP\, Juste Olivier 16\, 1260 Nyon\, tél. 022 363 00 80\, fax 022 363 00 85 \nhttps://www.pharmacap.ch/fr/programme_d_activites.html \nPublic : pharmacien.ne \nAccréditation: \nPoints FPH 50 \n  \nRetour sur les autres événements de santé : www.rdvsante.ch \n\n\n 
URL:https://rdvsante.ch/event/anamnese-fondements-partie-theorique-du-certificat-fph-jour-2-postgrade-1-5/
LOCATION:Conférence ZOOM
ATTACH;FMTTYPE=image/jpeg:https://rdvsante.ch/wp-content/uploads/2020/02/cap-1.jpg
END:VEVENT
END:VCALENDAR