



BEGIN:VCALENDAR
VERSION:2.0
PRODID:-//Rendez-vous santé - ECPv5.8.1//NONSGML v1.0//EN
CALSCALE:GREGORIAN
METHOD:PUBLISH
X-WR-CALNAME:Rendez-vous santé
X-ORIGINAL-URL:https://rdvsante.ch
X-WR-CALDESC:évènements pour Rendez-vous santé
BEGIN:VTIMEZONE
TZID:Europe/Zurich
BEGIN:DAYLIGHT
TZOFFSETFROM:+0100
TZOFFSETTO:+0200
TZNAME:CEST
DTSTART:20200329T010000
END:DAYLIGHT
BEGIN:STANDARD
TZOFFSETFROM:+0200
TZOFFSETTO:+0100
TZNAME:CET
DTSTART:20201025T010000
END:STANDARD
END:VTIMEZONE
BEGIN:VEVENT
DTSTART;TZID=Europe/Zurich:20201015T090000
DTEND;TZID=Europe/Zurich:20201015T170000
DTSTAMP:20260421T124037
CREATED:20201004T075003Z
LAST-MODIFIED:20201004T075103Z
UID:30502-1602752400-1602781200@rdvsante.ch
SUMMARY:Aromathérapie II – Approfondissement (Postgrade 1.3)
DESCRIPTION:INNOVATION \, EXCELLENCE et CONVIVIALITE! \n					Devise du CAP\n					 \n				 \n			 \n			 \n				\n				\n				\n				\n				\n				Aromathérapie II – Approfondissement (Postgrade 1.3)\nObjectifs: \nA l’issue de ce cours\, les participants sont capables de : \n– Nommer les huiles essentielles spécifiques aux pathologies– Décrire les bases de la formulation en aromathérapie pour diverses pathologies– Formuler et conseiller quelques complexes simples d’huiles essentielles– Détailler et justifier une formulation en HE– Comparer\, apprécier et évaluer des formulations différentes pour une même pathologie \n  \nAnimateur(trice): \nDominique Zosso\, pharmacienne\, Daniel Salzmann\, pharmacien \n\n\nPrix : \nCHF 400.- pour les membres du CAP\nCHF 480.- pour les non-membres \nInscription : \nSecrétariat du CAP\, Juste Olivier 16\, 1260 Nyon\, tél. 022 363 00 80\, fax 022 363 00 85 \nhttps://www.pharmacap.ch/fr/programme_d_activites.html \nPublic : pharmacien.ne \nAccréditation: \nPoints FPH 50 \n  \nRetour sur les autres événements de santé : www.rdvsante.ch \n\n\n 
URL:https://rdvsante.ch/event/aromatherapie-ii-approfondissement-postgrade-1-3-2/
LOCATION:Hôtel Continental\, Sur Zoom\, Vaud\, Suisse
ATTACH;FMTTYPE=image/jpeg:https://rdvsante.ch/wp-content/uploads/2020/02/cap-1.jpg
END:VEVENT
END:VCALENDAR