



BEGIN:VCALENDAR
VERSION:2.0
PRODID:-//Rendez-vous santé - ECPv5.8.1//NONSGML v1.0//EN
CALSCALE:GREGORIAN
METHOD:PUBLISH
X-WR-CALNAME:Rendez-vous santé
X-ORIGINAL-URL:https://rdvsante.ch
X-WR-CALDESC:évènements pour Rendez-vous santé
BEGIN:VTIMEZONE
TZID:Europe/Zurich
BEGIN:DAYLIGHT
TZOFFSETFROM:+0100
TZOFFSETTO:+0200
TZNAME:CEST
DTSTART:20200329T010000
END:DAYLIGHT
BEGIN:STANDARD
TZOFFSETFROM:+0200
TZOFFSETTO:+0100
TZNAME:CET
DTSTART:20201025T010000
END:STANDARD
END:VTIMEZONE
BEGIN:VEVENT
DTSTART;TZID=Europe/Zurich:20200428T080000
DTEND;TZID=Europe/Zurich:20200428T084500
DTSTAMP:20260421T124238
CREATED:20200412T103344Z
LAST-MODIFIED:20200412T103426Z
UID:29971-1588060800-1588063500@rdvsante.ch
SUMMARY:Colloque du mardi (HUG) – Actualités sur l’hypoparathyroïdie
DESCRIPTION:La vision d’une institution est le chemin qu’elle veut parcourir et la destination qu’elle entend atteindre. Celle des HUG se compose de cinq axes stratégiques \n\nExceller pour le patient\nDonner du sens à l’engagement des collaborateurs\nMieux travailler ensemble\nAffirmer la place des HUG dans le réseau de santé lémanique\nSe préparer pour le futur\n \n					Vision des HUG\n					 \n				 \n			 \n			 \n				\n				\n				\n				\n				\n				Actualités sur l’hypoparathyroïdie\nProgramme:  \n8h00-8h30 : Actualités sur l’hypoparathyroïdie avec Pr. A. Trombetti  \n8h30-08h45 : Flash Traitement Risque cardiovasculaire des patients ayant survécu au cancer Mme S. Stringhini \n\n\nEntrée libre \nPublic : médecins en médecine interne \n\nRetour sur les autres événements de santé : www.rdvsante.ch \n \n\n 
URL:https://rdvsante.ch/event/colloque-du-mardi-hug-actualites-sur-lhypoparathyroidie/
LOCATION:Auditoire Marcel Jenny\, Rue Gabrielle-Perret-Gentil 4\, Genève\, Genève\, Suisse
ATTACH;FMTTYPE=image/jpeg:https://rdvsante.ch/wp-content/uploads/2020/04/HUG.jpg
END:VEVENT
END:VCALENDAR