



BEGIN:VCALENDAR
VERSION:2.0
PRODID:-//Rendez-vous santé - ECPv5.8.1//NONSGML v1.0//EN
CALSCALE:GREGORIAN
METHOD:PUBLISH
X-WR-CALNAME:Rendez-vous santé
X-ORIGINAL-URL:https://rdvsante.ch
X-WR-CALDESC:évènements pour Rendez-vous santé
BEGIN:VTIMEZONE
TZID:Europe/Zurich
BEGIN:DAYLIGHT
TZOFFSETFROM:+0100
TZOFFSETTO:+0200
TZNAME:CEST
DTSTART:20200329T010000
END:DAYLIGHT
BEGIN:STANDARD
TZOFFSETFROM:+0200
TZOFFSETTO:+0100
TZNAME:CET
DTSTART:20201025T010000
END:STANDARD
END:VTIMEZONE
BEGIN:VEVENT
DTSTART;TZID=Europe/Zurich:20200303T080000
DTEND;TZID=Europe/Zurich:20200303T084500
DTSTAMP:20260421T102114
CREATED:20200219T211643Z
LAST-MODIFIED:20200219T211646Z
UID:29722-1583222400-1583225100@rdvsante.ch
SUMMARY:Colloque du mardi (HUG) – Promotion de la santé\, politique cantonale
DESCRIPTION:Promotion de la santé\, politique cantonale\nProgramme:  \n8h00-8h30 : Promotion de la santé\, politique cantonale avec Pr J-A. Romand médecin cantonal DSES \n8h30-08h45 : Abstinence d’alcool et fibrillation auriculaire :la suite logique du Holiday Heart Syndrome ? ​avec Dr T. Favrod Coune \n\n\nEntrée libre \nPublic : médecins en médecine interne \nRetour sur les autres événements de santé : www.rdvsante.ch \n\n\n 
URL:https://rdvsante.ch/event/colloque-du-mardi-hug-promotion-de-la-sante-politique-cantonale/
LOCATION:Auditoire Marcel Jenny\, Rue Gabrielle-Perret-Gentil 4\, Genève\, Genève\, Suisse
END:VEVENT
END:VCALENDAR