



BEGIN:VCALENDAR
VERSION:2.0
PRODID:-//Rendez-vous santé - ECPv5.8.1//NONSGML v1.0//EN
CALSCALE:GREGORIAN
METHOD:PUBLISH
X-WR-CALNAME:Rendez-vous santé
X-ORIGINAL-URL:https://rdvsante.ch
X-WR-CALDESC:évènements pour Rendez-vous santé
BEGIN:VTIMEZONE
TZID:Europe/Zurich
BEGIN:DAYLIGHT
TZOFFSETFROM:+0100
TZOFFSETTO:+0200
TZNAME:CEST
DTSTART:20200329T010000
END:DAYLIGHT
BEGIN:STANDARD
TZOFFSETFROM:+0200
TZOFFSETTO:+0100
TZNAME:CET
DTSTART:20201025T010000
END:STANDARD
END:VTIMEZONE
BEGIN:VEVENT
DTSTART;TZID=Europe/Zurich:20200218T080000
DTEND;TZID=Europe/Zurich:20200218T084500
DTSTAMP:20260421T124555
CREATED:20200207T213447Z
LAST-MODIFIED:20200212T191653Z
UID:29526-1582012800-1582015500@rdvsante.ch
SUMMARY:Colloque du mardi (médecine interne) – Épreuves fonctionnelles respiratoires :  vision 2020
DESCRIPTION:Épreuves fonctionnelles respiratoires :vision 2020\nProgramme:  \n8h00-8h30 :Épreuves fonctionnelles respiratoires :vision 2020 avec Dr F. Lador \n8h30-08h45 : Flash Prévalence des nodules pulmonaires chez les travailleursétant intervenus sur le site du WTC avec Dr J-A Pralong \n\n\nEntrée libre \nPublic : médecins en médecine interne \n\nRetour sur les autres événements de santé : www.rdvsante.ch \n \n\n 
URL:https://rdvsante.ch/event/colloque-du-mardi-medecine-interne-epreuves-fonctionnelles-respiratoires-vision-2020/
LOCATION:Auditoire Marcel Jenny\, Rue Gabrielle-Perret-Gentil 4\, Genève\, Genève\, Suisse
END:VEVENT
END:VCALENDAR