



BEGIN:VCALENDAR
VERSION:2.0
PRODID:-//Rendez-vous santé - ECPv5.8.1//NONSGML v1.0//EN
CALSCALE:GREGORIAN
METHOD:PUBLISH
X-WR-CALNAME:Rendez-vous santé
X-ORIGINAL-URL:https://rdvsante.ch
X-WR-CALDESC:évènements pour Rendez-vous santé
BEGIN:VTIMEZONE
TZID:Europe/Zurich
BEGIN:DAYLIGHT
TZOFFSETFROM:+0100
TZOFFSETTO:+0200
TZNAME:CEST
DTSTART:20200329T010000
END:DAYLIGHT
BEGIN:STANDARD
TZOFFSETFROM:+0200
TZOFFSETTO:+0100
TZNAME:CET
DTSTART:20201025T010000
END:STANDARD
END:VTIMEZONE
BEGIN:VEVENT
DTSTART;TZID=Europe/Zurich:20200225T080000
DTEND;TZID=Europe/Zurich:20200225T084500
DTSTAMP:20260421T170200
CREATED:20200212T192012Z
LAST-MODIFIED:20200219T205518Z
UID:29590-1582617600-1582620300@rdvsante.ch
SUMMARY:Colloque du mardi (HUG) – Prise en charge de l’insuffisance cardiaque sévère aux HUG: collaboration multidisciplinaire
DESCRIPTION:Prise en charge de l’insuffisance cardiaque sévère aux HUG: collaboration multidisciplinaire\nProgramme:  \n8h00-8h30 : Prise en charge de l’insuffisance cardiaque sévère aux HUG: collaboration multidisciplinaire avec Dr Ph. Meyer et Dr S. Giraud \n8h30-08h45 : Inflammation et athérosclérose: une nouvelle piste thérapeutique ? ​avec Pr F. Mach \n\n\nEntrée libre \nPublic : médecins en médecine interne \nRetour sur les autres événements de santé : www.rdvsante.ch \n\n\n 
URL:https://rdvsante.ch/event/colloque-du-mardi-medecine-interne-prise-en-charge-de-linsuffisance-cardiaque-severe-aux-hug-collaboration-multidisciplinaire/
LOCATION:Auditoire Marcel Jenny\, Rue Gabrielle-Perret-Gentil 4\, Genève\, Genève\, Suisse
END:VEVENT
END:VCALENDAR