



BEGIN:VCALENDAR
VERSION:2.0
PRODID:-//Rendez-vous santé - ECPv5.8.1//NONSGML v1.0//EN
CALSCALE:GREGORIAN
METHOD:PUBLISH
X-WR-CALNAME:Rendez-vous santé
X-ORIGINAL-URL:https://rdvsante.ch
X-WR-CALDESC:évènements pour Rendez-vous santé
BEGIN:VTIMEZONE
TZID:Europe/Zurich
BEGIN:DAYLIGHT
TZOFFSETFROM:+0100
TZOFFSETTO:+0200
TZNAME:CEST
DTSTART:20200329T010000
END:DAYLIGHT
BEGIN:STANDARD
TZOFFSETFROM:+0200
TZOFFSETTO:+0100
TZNAME:CET
DTSTART:20201025T010000
END:STANDARD
END:VTIMEZONE
BEGIN:VEVENT
DTSTART;TZID=Europe/Zurich:20200107T080000
DTEND;TZID=Europe/Zurich:20200107T090000
DTSTAMP:20260419T151203
CREATED:20191229T171108Z
LAST-MODIFIED:20191229T171918Z
UID:29252-1578384000-1578387600@rdvsante.ch
SUMMARY:Colloque du Mardi (Médecine interne) - Prise en charge du diabète en 2020 : traitement et complications
DESCRIPTION:Prise en charge du diabète en 2020 : traitement et complications \nProgramme: \n8h00-8h30 : Prise en charge du diabète en 2020 : traitement et complications   avec le Dr F. Jornayvaz et le Dr K. Gariani. \n8h30-08h45 : Flash avec le Dr J. Iglesias \n\n\nEntrée libre \nPublic : médecins en médecine interne \n\n\n 
URL:https://rdvsante.ch/event/colloque-du-mardi-medecine-interne-prise-en-charge-du-diabete-en-2020-traitement-et-complications/
LOCATION:Auditoire Marcel Jenny\, Rue Gabrielle-Perret-Gentil 4\, Genève\, Genève\, Suisse
END:VEVENT
END:VCALENDAR