



BEGIN:VCALENDAR
VERSION:2.0
PRODID:-//Rendez-vous santé - ECPv5.8.1//NONSGML v1.0//EN
CALSCALE:GREGORIAN
METHOD:PUBLISH
X-WR-CALNAME:Rendez-vous santé
X-ORIGINAL-URL:https://rdvsante.ch
X-WR-CALDESC:évènements pour Rendez-vous santé
BEGIN:VTIMEZONE
TZID:Europe/Zurich
BEGIN:DAYLIGHT
TZOFFSETFROM:+0100
TZOFFSETTO:+0200
TZNAME:CEST
DTSTART:20200329T010000
END:DAYLIGHT
BEGIN:STANDARD
TZOFFSETFROM:+0200
TZOFFSETTO:+0100
TZNAME:CET
DTSTART:20201025T010000
END:STANDARD
END:VTIMEZONE
BEGIN:VEVENT
DTSTART;TZID=Europe/Zurich:20200211T080000
DTEND;TZID=Europe/Zurich:20200211T084500
DTSTAMP:20260421T152414
CREATED:20200122T225547Z
LAST-MODIFIED:20200212T223314Z
UID:29362-1581408000-1581410700@rdvsante.ch
SUMMARY:Colloque du mardi (médecine interne) - Rôle du microbiote dans le développement de la polyarthrite rhumatoïde
DESCRIPTION:Rôle du microbiote dans le développement de la polyarthrite rhumatoïde\n\nProgramme:  \n8h00-8h30 :Rôle du microbiote dans le développement de la polyarthrite rhumatoïde avec Pr A. Finckh \n8h30-08h45 : Flash \n\n\nEntrée libre \nPublic : médecins en médecine interne \n\n\n 
URL:https://rdvsante.ch/event/colloque-du-mardi-medecine-interne-role-du-microbiote-dans-le-developpement-de-la-polyarthrite-rhumatoide/
LOCATION:Auditoire Marcel Jenny\, Rue Gabrielle-Perret-Gentil 4\, Genève\, Genève\, Suisse
END:VEVENT
END:VCALENDAR