



BEGIN:VCALENDAR
VERSION:2.0
PRODID:-//Rendez-vous santé - ECPv5.8.1//NONSGML v1.0//EN
CALSCALE:GREGORIAN
METHOD:PUBLISH
X-WR-CALNAME:Rendez-vous santé
X-ORIGINAL-URL:https://rdvsante.ch
X-WR-CALDESC:évènements pour Rendez-vous santé
BEGIN:VTIMEZONE
TZID:Europe/Zurich
BEGIN:DAYLIGHT
TZOFFSETFROM:+0100
TZOFFSETTO:+0200
TZNAME:CEST
DTSTART:20200329T010000
END:DAYLIGHT
BEGIN:STANDARD
TZOFFSETFROM:+0200
TZOFFSETTO:+0100
TZNAME:CET
DTSTART:20201025T010000
END:STANDARD
END:VTIMEZONE
BEGIN:VEVENT
DTSTART;TZID=Europe/Zurich:20200219T123000
DTEND;TZID=Europe/Zurich:20200219T133000
DTSTAMP:20260421T203322
CREATED:20200129T222607Z
LAST-MODIFIED:20200212T173101Z
UID:29447-1582115400-1582119000@rdvsante.ch
SUMMARY:Colloque du mercredi (Médecine interne) – Horton & Polymyalgia
DESCRIPTION:Horton & Polymyalgia\nProgramme:  \n12h30-13h30 : Horton & Polymyalgia avec Dr Grégory Fleury \n\n\nEntrée libre \nPublic : médecins en médecine interne\, professionnels de la santé
URL:https://rdvsante.ch/event/colloque-du-mercredi-medecine-interne-horton-polymyalgia/
LOCATION:Hôpital de La Tour – Auditoire Jean-Benoît Thorens\, Avenue J.-D.-Maillard 3\, Meyrin\, Genève\, 1217\, Suisse
ATTACH;FMTTYPE=image/jpeg:https://rdvsante.ch/wp-content/uploads/2020/01/LTMG_Logo_cmjn-e1580670416575.jpg
END:VEVENT
END:VCALENDAR