



BEGIN:VCALENDAR
VERSION:2.0
PRODID:-//Rendez-vous santé - ECPv5.8.1//NONSGML v1.0//EN
CALSCALE:GREGORIAN
METHOD:PUBLISH
X-WR-CALNAME:Rendez-vous santé
X-ORIGINAL-URL:https://rdvsante.ch
X-WR-CALDESC:évènements pour Rendez-vous santé
BEGIN:VTIMEZONE
TZID:Europe/Zurich
BEGIN:DAYLIGHT
TZOFFSETFROM:+0100
TZOFFSETTO:+0200
TZNAME:CEST
DTSTART:20210328T010000
END:DAYLIGHT
BEGIN:STANDARD
TZOFFSETFROM:+0200
TZOFFSETTO:+0100
TZNAME:CET
DTSTART:20211031T010000
END:STANDARD
END:VTIMEZONE
BEGIN:VEVENT
DTSTART;TZID=Europe/Zurich:20210211T190000
DTEND;TZID=Europe/Zurich:20210211T210000
DTSTAMP:20260421T181249
CREATED:20210131T091431Z
LAST-MODIFIED:20210131T091733Z
UID:31165-1613070000-1613077200@rdvsante.ch
SUMMARY:Colloque interactif : COVID 19\, état des connaissances et des incertitudes - New
DESCRIPTION:INNOVATION \, EXCELLENCE et CONVIVIALITE! \n					Devise du CAP\n					 \n				 \n			 \n			 \n				\n				\n				\n				\n				\n				Colloque interactif : COVID 19\, état des connaissances et des incertitudes – New\nObjectifs: \nA l’issue de la formation\, les participants seront capables de: \n\nconnaître les notions clés de prise en charge des patients ambulatoires (pré- et post-maladie COVID)\ncomprendre l’épidémiologie de la maladie\nappréhender les mutations du virus SARS-Cov 2\ndécrire les vaccinations présentes ou à venir\névaluer les implications pratiques de la campagne de vaccination dans leurs officines\n\n  \nUne occasion unique pour un échange interactif avec des spécialistes des HUG – Posez toutes vos questions\, entre deuxième et troisième vague de pandémie. \nAnimateur(trice): \nProf. Laurent Kaiser\, Médecin-chef du Service des maladies infectieuses et responsable du laboratoire HUG\, FMH maladies infectieuses et FAMH microbiologie\, Dre Frédérique Jacquerioz\, Médecin cheffe de clinique\, Service de médecine tropicale et humanitaire\, HUG et Dre Christiane Eberhardt\, Médecin adjointe\, Centre de vaccinologie\, HUG \n\n\nPrix :CHF 75.- pour les membres du CAP \nCHF 120.- pour les non-membres \nInscription : \nSecrétariat du CAP\, Juste Olivier 16\, 1260 Nyon\, tél. 022 363 00 80\, fax 022 363 00 85 \nhttps://www.pharmacap.ch/fr/programme_d_activites.html \nPublic : pharmacien.ne \nAccréditation: \nNuméro FPH 202276-01 / Points FPH 12.50 \n  \nRetour sur les autres événements de santé : www.rdvsante.ch \n\n\n  \n 
URL:https://rdvsante.ch/event/colloque-interactif-covid-19-etat-des-connaissances-et-des-incertitudes-new/
ATTACH;FMTTYPE=image/jpeg:https://rdvsante.ch/wp-content/uploads/2020/02/cap-1.jpg
END:VEVENT
END:VCALENDAR