



BEGIN:VCALENDAR
VERSION:2.0
PRODID:-//Rendez-vous santé - ECPv5.8.1//NONSGML v1.0//EN
CALSCALE:GREGORIAN
METHOD:PUBLISH
X-WR-CALNAME:Rendez-vous santé
X-ORIGINAL-URL:https://rdvsante.ch
X-WR-CALDESC:évènements pour Rendez-vous santé
BEGIN:VTIMEZONE
TZID:Europe/Zurich
BEGIN:DAYLIGHT
TZOFFSETFROM:+0100
TZOFFSETTO:+0200
TZNAME:CEST
DTSTART:20200329T010000
END:DAYLIGHT
BEGIN:STANDARD
TZOFFSETFROM:+0200
TZOFFSETTO:+0100
TZNAME:CET
DTSTART:20201025T010000
END:STANDARD
END:VTIMEZONE
BEGIN:VEVENT
DTSTART;TZID=Europe/Zurich:20201010T090000
DTEND;TZID=Europe/Zurich:20201010T180000
DTSTAMP:20260421T112756
CREATED:20201007T143045Z
LAST-MODIFIED:20201007T143048Z
UID:30535-1602320400-1602352800@rdvsante.ch
SUMMARY:Communication Cellulaire
DESCRIPTION:Depuis 2013\, la SSM a pour mission de promouvoir la micronutrition en Suisse et les outils thérapeutiques associés. Dans ce cadre\, l’association propose un diplôme de micronutrition ainsi que des journées thématiques spécifiques\, réservées aux professionnels de santé. La SSM met également à disposition du grand public des supports ludiques par thématiques et leur recommande des spécialistes dans leur secteur.  \n					Société Suisse de Micronutrition\n					Société Suisse de Micronutrition \n				 \n			 \n			 \n				\n				\n				\n				\n				\n				Communication cellulaire\nDescription: \n– Les bases fondamentales des différents modes de communication au sein de la cellule : la membrane et les acides gras.– Les principes généraux de la communication cellulaire avec le milieu : les échanges ioniques et l’équilibre acido-basique.– Assurer une bonne communication cellulaire : rôle du potassium\, du magnésium et des omega 3 /omega 6.– Assurer une bonne santé cardiovasculaire\, cérébrale\, oculaire\, de la peau et du cycle hormonal. \nAnimateur(trice): \nAline Corcelle  \n\n\nPrix : \nCHF 225 \nInscription : \ntrainingretail@galenicare.comPublic : pharmacien.ne \nAccréditation: \nPoints FPH 50 \n  \nRetour sur les autres événements de santé : www.rdvsante.ch \n\n\n 
URL:https://rdvsante.ch/event/communication-cellulaire/
LOCATION:Novotel Lausanne-Bussigny\, Route de Condémine 35\, Bussigny-près-Lausanne\, Vaud\, 1030\, Suisse
ATTACH;FMTTYPE=image/jpeg:https://rdvsante.ch/wp-content/uploads/2020/10/ssm.jpg
END:VEVENT
END:VCALENDAR