



BEGIN:VCALENDAR
VERSION:2.0
PRODID:-//Rendez-vous santé - ECPv5.8.1//NONSGML v1.0//EN
CALSCALE:GREGORIAN
METHOD:PUBLISH
X-WR-CALNAME:Rendez-vous santé
X-ORIGINAL-URL:https://rdvsante.ch
X-WR-CALDESC:évènements pour Rendez-vous santé
BEGIN:VTIMEZONE
TZID:Europe/Zurich
BEGIN:DAYLIGHT
TZOFFSETFROM:+0100
TZOFFSETTO:+0200
TZNAME:CEST
DTSTART:20200329T010000
END:DAYLIGHT
BEGIN:STANDARD
TZOFFSETFROM:+0200
TZOFFSETTO:+0100
TZNAME:CET
DTSTART:20201025T010000
END:STANDARD
END:VTIMEZONE
BEGIN:VEVENT
DTSTART;TZID=Europe/Zurich:20200226T183000
DTEND;TZID=Europe/Zurich:20200226T200000
DTSTAMP:20260421T175119
CREATED:20200126T153105Z
LAST-MODIFIED:20200212T173539Z
UID:29400-1582741800-1582747200@rdvsante.ch
SUMMARY:Conférence - Infarctus: Comment il arrive? Comment l'éviter? (tout public)
DESCRIPTION:Infarctus: Comment il arrive? Comment l’éviter ?\nL’objectif de cette conférence est de vous sensibiliser aux symptômes annonciateurs et de vous présenter les premiers gestes et attitudes à adopter\, au moment où un infarctus survient. Nous vous parlerons aussi des dernières évolutions en matière de prise en charge et traitements de cette maladie. \nIntervenant : Prof. Olivier Muller\, MD PhD\, Chef du Service de cardiologie du CHUV \nProgramme:  \n18h30 Introduction \n18h40 C’est quoi un infarctus ? Existe-t-il un dépistage ? avec le Dr Stéphane Fournier\, chef de clinique \n19h00 Lorsque l’infarctus survient\, les réflexes à avoir avec le Prof. Eric Eeckhout\, médecin chef \n19h20 Le traitement et le suivi avec le Prof. Olivier Muller\, chef de service \n19h40 Questions-réponses \n20h00 Apéritif \nCommentaire: \n\n\nLes infarctus sont des un des sujets de questions les plus fréquents lors des réunions de familles. Cette conférence présente un programme complet sur le sujet. \nEntrée libre. Nombre de places limitées. \nPublic : médecins\, infirmier\, pharmacien\, patient \n\n\n 
URL:https://rdvsante.ch/event/conference-infarctus-comment-il-arrive-comment-leviter/
LOCATION:Palais de Rumine Salle de l’Aula\, Place de la Riponne 6\, Lausanne\, Vaud\, 1005\, Suisse
CATEGORIES:Formations Foederatio Pharmaceutica Helvetiae
ATTACH;FMTTYPE=image/png:https://rdvsante.ch/wp-content/uploads/2020/01/Capture1-1-e1580670590178.png
END:VEVENT
END:VCALENDAR