



BEGIN:VCALENDAR
VERSION:2.0
PRODID:-//Rendez-vous santé - ECPv5.8.1//NONSGML v1.0//EN
CALSCALE:GREGORIAN
METHOD:PUBLISH
X-WR-CALNAME:Rendez-vous santé
X-ORIGINAL-URL:https://rdvsante.ch
X-WR-CALDESC:évènements pour Rendez-vous santé
BEGIN:VTIMEZONE
TZID:Europe/Zurich
BEGIN:DAYLIGHT
TZOFFSETFROM:+0100
TZOFFSETTO:+0200
TZNAME:CEST
DTSTART:20200329T010000
END:DAYLIGHT
BEGIN:STANDARD
TZOFFSETFROM:+0200
TZOFFSETTO:+0100
TZNAME:CET
DTSTART:20201025T010000
END:STANDARD
END:VTIMEZONE
BEGIN:VEVENT
DTSTART;TZID=Europe/Zurich:20200114T110000
DTEND;TZID=Europe/Zurich:20200114T120000
DTSTAMP:20260422T150157
CREATED:20191227T180135Z
LAST-MODIFIED:20200102T201820Z
UID:29200-1578999600-1579003200@rdvsante.ch
SUMMARY:Séminaire - Day-night rhythm of skeletal muscle lipid and mitochondrial metabolism and its role in insulin resistance in humans
DESCRIPTION:Day-night rhythm of skeletal muscle lipid and mitochondrial metabolism and its role in insulin resistance in humans\nSeminar from the Department of cell physiology and metabolism PHYM \n\n\nEntrée libre
URL:https://rdvsante.ch/event/day-night-rhythm-of-skeletal-muscle-lipid-and-mitochondrial-metabolism-and-its-role-in-insulin-resistance-in-humans/
LOCATION:CMU – B02.2226\, Rue Michel-Servet 1\, Genève\, Genève\, 1206\, Suisse
END:VEVENT
END:VCALENDAR