



BEGIN:VCALENDAR
VERSION:2.0
PRODID:-//Rendez-vous santé - ECPv5.8.1//NONSGML v1.0//EN
CALSCALE:GREGORIAN
METHOD:PUBLISH
X-WR-CALNAME:Rendez-vous santé
X-ORIGINAL-URL:https://rdvsante.ch
X-WR-CALDESC:évènements pour Rendez-vous santé
BEGIN:VTIMEZONE
TZID:Europe/Zurich
BEGIN:DAYLIGHT
TZOFFSETFROM:+0100
TZOFFSETTO:+0200
TZNAME:CEST
DTSTART:20210328T010000
END:DAYLIGHT
BEGIN:STANDARD
TZOFFSETFROM:+0200
TZOFFSETTO:+0100
TZNAME:CET
DTSTART:20211031T010000
END:STANDARD
END:VTIMEZONE
BEGIN:VEVENT
DTSTART;TZID=Europe/Zurich:20210210T191500
DTEND;TZID=Europe/Zurich:20210210T191500
DTSTAMP:20260421T191458
CREATED:20210131T082601Z
LAST-MODIFIED:20210131T090725Z
UID:31132-1612984500-1612984500@rdvsante.ch
SUMMARY:Découvrir et comprendre Ceres
DESCRIPTION:DE LA PLANTE MÉDICINALE AU MÉDICAMENT HOLISTIQUE.\n\nCeres s’est donné pour objectif de réunir les principesactifs matériels et immatériels des plantes médicinales dans un seul médicament. \n\n  \n					Devise de Ceres\n					 \n				 \n			 \n			 \n				\n				\n				\n				\n				\n				​Découvrir et comprendre Ceres\nObjectifs: \n\nLes teintures mères essentielles constituent la base d’une phytothérapie globale. Pour pouvoir bien comprendre et saisir toute la complexité du spectre d’action d’un médicament holistique\, il est nécessaire de connaître son mode de fabrication. Comment les plantes médicinales sont-elles transformées en médicament? Quelles sont les différences fondamentales des processus de fabrication des différents médicaments et quelles en sont les conséquences? Pourquoi les teintures mères essentielles sont-elles relativement faiblement dosées? Que faut-il comprendre sous le terme de «signature» des plantes médicinales et de leur utilisation en relation avec leur essence? Nous tenterons de répondre à toutes ces questions au cours de la soirée\, en nous appuyant sur la philosophie propre à l’histoire de Ceres.\n\n  \nAnimateur(trice): \nChristoph Kalbermatten\, Eidg. Dipl. Apotheker ETH \n\n\nPrix : \nCours offert \nInscription : \nBienvenue (swisswebinar.ch) \nPublic : pharmacien.ne \nAccréditation: \nLe webinaire a été validé et donne lieu à 2 points ASD et 12\,5 points FPH pour la participation active. \n  \nRetour sur les autres événements de santé : www.rdvsante.ch \n\n\n  \n \n \n 
URL:https://rdvsante.ch/event/decouvrir-et-comprendre-ceres/
LOCATION:Webinaire
ATTACH;FMTTYPE=image/png:https://rdvsante.ch/wp-content/uploads/2021/01/ceres-2.png
END:VEVENT
END:VCALENDAR