



BEGIN:VCALENDAR
VERSION:2.0
PRODID:-//Rendez-vous santé - ECPv5.8.1//NONSGML v1.0//EN
CALSCALE:GREGORIAN
METHOD:PUBLISH
X-WR-CALNAME:Rendez-vous santé
X-ORIGINAL-URL:https://rdvsante.ch
X-WR-CALDESC:évènements pour Rendez-vous santé
BEGIN:VTIMEZONE
TZID:Europe/Zurich
BEGIN:DAYLIGHT
TZOFFSETFROM:+0100
TZOFFSETTO:+0200
TZNAME:CEST
DTSTART:20210328T010000
END:DAYLIGHT
BEGIN:STANDARD
TZOFFSETFROM:+0200
TZOFFSETTO:+0100
TZNAME:CET
DTSTART:20211031T010000
END:STANDARD
END:VTIMEZONE
BEGIN:VEVENT
DTSTART;TZID=Europe/Zurich:20210126T200000
DTEND;TZID=Europe/Zurich:20210126T220000
DTSTAMP:20260421T231346
CREATED:20201225T132150Z
LAST-MODIFIED:20210113T135618Z
UID:30811-1611691200-1611698400@rdvsante.ch
SUMMARY:[sur Zoom] Education thérapeutique du patient diabétique
DESCRIPTION:Sur l’ensemble de l’année\, des conférences se déroulent à Genève. Les thématiques abordent des problèmes pratiques de la pharmacie d’officine\, et intéressent également le public de pharmaciens travaillant en hôpitaux ou dans l’industrie. \n					L'équipe de formation continue\n					 \n				 \n			 \n			 \n				\n				\n				\n				\n				\n				Education thérapeutique du patient diabétique*\nProgramme: \n20h00-22h00 : Education thérapeutique du patient diabétique avec Dr Giacomo Gastaldi\, Médecin adjoint service d’endocrinologie\, diabétologie\, hypertension et nutrition HUG \n\n\nPrix : Programme annuelMembres : CHF 150.- .Non-membres : CHF 500.-Etudiant.e.s : CHF 0.- \nInscription sur https://ispso.unige.ch/pharm/formation-continue/index.php \nPublic : pharmacien.ne \nRetour sur les autres événements de santé : www.rdvsante.ch
URL:https://rdvsante.ch/event/education-therapeutique-du-patient-diabetique/
LOCATION:FER Fédération des Entreprises Romandes à l’auditorium\, Rue de Saint Jean 98\, Genève\, Genève\, 1201\, Suisse
ATTACH;FMTTYPE=image/jpeg:https://rdvsante.ch/wp-content/uploads/2020/06/pharmageneve.jpg
END:VEVENT
END:VCALENDAR