



BEGIN:VCALENDAR
VERSION:2.0
PRODID:-//Rendez-vous santé - ECPv5.8.1//NONSGML v1.0//EN
CALSCALE:GREGORIAN
METHOD:PUBLISH
X-WR-CALNAME:Rendez-vous santé
X-ORIGINAL-URL:https://rdvsante.ch
X-WR-CALDESC:évènements pour Rendez-vous santé
BEGIN:VTIMEZONE
TZID:Europe/Zurich
BEGIN:DAYLIGHT
TZOFFSETFROM:+0100
TZOFFSETTO:+0200
TZNAME:CEST
DTSTART:20200329T010000
END:DAYLIGHT
BEGIN:STANDARD
TZOFFSETFROM:+0200
TZOFFSETTO:+0100
TZNAME:CET
DTSTART:20201025T010000
END:STANDARD
END:VTIMEZONE
BEGIN:VEVENT
DTSTART;TZID=Europe/Zurich:20200225T193000
DTEND;TZID=Europe/Zurich:20200225T220000
DTSTAMP:20260421T165815
CREATED:20200126T222455Z
LAST-MODIFIED:20200212T221759Z
UID:29421-1582659000-1582668000@rdvsante.ch
SUMMARY:Formation continue pour pharmaciens : Anticancéreux\, nouvelle thérapie
DESCRIPTION:Anticancéreux\, nouvelle thérapie\nProgramme: \n19H30-20h00 :Apéritif de bienvenue \n20h00-22h00 :Anticancéreux\, nouvelle thérapie avec Prof\, Carole Bourquin\, Immunopharmacologie du cancer\, HUG \n\n\nPrix : Programme annuelMembres : CHF 150.- .Non-membres : CHF 500.-Etudiant.e.s : CHF 0.- \nInscription sur https://ispso.unige.ch/pharm/formation-continue/index.php \nPublic : pharmacien.ne \nRetour sur les autres événements de santé : www.rdvsante.ch \n\n\n 
URL:https://rdvsante.ch/event/formation-continue-pour-pharmaciens-anticancereux-nouvelle-therapie/
LOCATION:FER Fédération des Entreprises Romandes à l’auditorium\, Rue de Saint Jean 98\, Genève\, Genève\, 1201\, Suisse
ATTACH;FMTTYPE=image/png:https://rdvsante.ch/wp-content/uploads/2019/12/formationcontinue-e1580668650292.png
END:VEVENT
END:VCALENDAR