



BEGIN:VCALENDAR
VERSION:2.0
PRODID:-//Rendez-vous santé - ECPv5.8.1//NONSGML v1.0//EN
CALSCALE:GREGORIAN
METHOD:PUBLISH
X-WR-CALNAME:Rendez-vous santé
X-ORIGINAL-URL:https://rdvsante.ch
X-WR-CALDESC:évènements pour Rendez-vous santé
BEGIN:VTIMEZONE
TZID:Europe/Zurich
BEGIN:DAYLIGHT
TZOFFSETFROM:+0100
TZOFFSETTO:+0200
TZNAME:CEST
DTSTART:20200329T010000
END:DAYLIGHT
BEGIN:STANDARD
TZOFFSETFROM:+0200
TZOFFSETTO:+0100
TZNAME:CET
DTSTART:20201025T010000
END:STANDARD
END:VTIMEZONE
BEGIN:VEVENT
DTSTART;TZID=Europe/Zurich:20200907T090000
DTEND;TZID=Europe/Zurich:20200908T170000
DTSTAMP:20260423T120222
CREATED:20200818T103412Z
LAST-MODIFIED:20200818T103416Z
UID:30373-1599469200-1599584400@rdvsante.ch
SUMMARY:Gestion du personnel – Nul n’est parfait mais une équipe peut l’être
DESCRIPTION:INNOVATION \, EXCELLENCE et CONVIVIALITE! \n					Devise du CAP\n					 \n				 \n			 \n			 \n				\n				\n				\n				\n				\n				Gestion du personnel – Module 1 – Nul n’est parfait mais une équipe peut l’être (postgrade 6.3)\nObjectifs: \nA l’issue de la formation\, les participants auront : \n\nIdentifié leur rôle préféré en équipe en fonction de leur personnalité\, de leurs expériences et de leurs compétences au moyen de l’outil Belbin.\nMis en évidence leurs forces au sein de l’équipe et élaboré un plan d’action pour en tirer profit.\nAcquis les connaissances leur permettant de constituer une équipe équilibrée et efficace.\nDéfini le leadership et intégré le rôle et l’importance du leader pour une équipe.\n\n  \nAnimateur(trice): \nVanda Schwalm-Fayad\, pharmacienne-formatrice et Véronique Dewaele\, coach formatrice \n\n\nPrix :CHF 1000.- pour les membres du CAP \nCHF 1200.- pour les non-membres \nInscription : \nSecrétariat du CAP\, Juste Olivier 16\, 1260 Nyon\, tél. 022 363 00 80\, fax 022 363 00 85 \nhttps://www.pharmacap.ch/fr/programme_d_activites.html \nPublic : pharmacien.ne \nAccréditation: \nPoints FPH 25 \n  \nRetour sur les autres événements de santé : www.rdvsante.ch \n\n\n 
URL:https://rdvsante.ch/event/gestion-du-personnel-nul-nest-parfait-mais-une-equipe-peut-letre/
LOCATION:Hôtel Longeraie\, Route de la Longeraie 14\, Morges\, Vaud\, 1110\, Suisse
ATTACH;FMTTYPE=image/jpeg:https://rdvsante.ch/wp-content/uploads/2020/02/cap-1.jpg
END:VEVENT
END:VCALENDAR