



BEGIN:VCALENDAR
VERSION:2.0
PRODID:-//Rendez-vous santé - ECPv5.8.1//NONSGML v1.0//EN
CALSCALE:GREGORIAN
METHOD:PUBLISH
X-WR-CALNAME:Rendez-vous santé
X-ORIGINAL-URL:https://rdvsante.ch
X-WR-CALDESC:évènements pour Rendez-vous santé
BEGIN:VTIMEZONE
TZID:Europe/Zurich
BEGIN:DAYLIGHT
TZOFFSETFROM:+0100
TZOFFSETTO:+0200
TZNAME:CEST
DTSTART:20200329T010000
END:DAYLIGHT
BEGIN:STANDARD
TZOFFSETFROM:+0200
TZOFFSETTO:+0100
TZNAME:CET
DTSTART:20201025T010000
END:STANDARD
END:VTIMEZONE
BEGIN:VEVENT
DTSTART;TZID=Europe/Zurich:20201110T193000
DTEND;TZID=Europe/Zurich:20201110T193000
DTSTAMP:20260421T164130
CREATED:20201025T171748Z
LAST-MODIFIED:20201030T191116Z
UID:30609-1605036600-1605036600@rdvsante.ch
SUMMARY:Le VIH et les autotests
DESCRIPTION:Pharma24 SA met sur pied un cycle de 4 formations annuelles en pharmacie clinique ambulatoire ‘pharma24update’. Chaque formation débutera par une situation pharmaceutique réelle de validation\, triage ou suivi. Ce cycle se caractérise par son approche pédagogique tournée vers la pratique. \n					Pharma24\n					 \n				 \n			 \n			 \n				\n				\n				\n				\n				\n				Le VIH et les autotests\nObjectifs: \nLes objectifs de la formation visent à exercer les compétences cliniques structurées du pharmacien face aux situations proposées\, à identifier et utiliser les sources scientifiques pertinentes à disposition en officine\,et à renforcer les compétences interrelationnelles du pharmacien. \nLes méthodes pédagogiques utilisées seront le travail en petits groupes\, l’échange en plénière et la résolution de la situation pharmaceutique clinique avec visionnement d’une vidéo. \n\n\nPrix :CHF 140.- pour les membres pharmaGeneve \nCHF 280.- pour les non-membres \nInscription : \nVos inscriptions sont à retourner à info@pharma24.swiss. \nhttps://pharma24.swiss/wp-content/uploads/2020/05/pharma24update_AnnonceProgramme.pdf \nPublic : pharmacien.ne \nAccréditation: \nPoints FPH 12.5 \n  \nRetour sur les autres événements de santé : www.rdvsante.ch \n\n\n 
URL:https://rdvsante.ch/event/le-vih-et-les-autotests/
LOCATION:Conférence ZOOM
ATTACH;FMTTYPE=image/jpeg:https://rdvsante.ch/wp-content/uploads/2020/08/pharma242.jpg
END:VEVENT
END:VCALENDAR