



BEGIN:VCALENDAR
VERSION:2.0
PRODID:-//Rendez-vous santé - ECPv5.8.1//NONSGML v1.0//EN
CALSCALE:GREGORIAN
METHOD:PUBLISH
X-WR-CALNAME:Rendez-vous santé
X-ORIGINAL-URL:https://rdvsante.ch
X-WR-CALDESC:évènements pour Rendez-vous santé
BEGIN:VTIMEZONE
TZID:Europe/Zurich
BEGIN:DAYLIGHT
TZOFFSETFROM:+0100
TZOFFSETTO:+0200
TZNAME:CEST
DTSTART:20200329T010000
END:DAYLIGHT
BEGIN:STANDARD
TZOFFSETFROM:+0200
TZOFFSETTO:+0100
TZNAME:CET
DTSTART:20201025T010000
END:STANDARD
END:VTIMEZONE
BEGIN:VEVENT
DTSTART;TZID=Europe/Zurich:20200623T080000
DTEND;TZID=Europe/Zurich:20200623T084500
DTSTAMP:20260421T140543
CREATED:20200512T223911Z
LAST-MODIFIED:20200512T223914Z
UID:30098-1592899200-1592901900@rdvsante.ch
SUMMARY:[LIVE STREAM] Colloque du Mardi - Retour sur la vague « COVID-19 » aux soins intensifs : qu’avons-nous appris ?
DESCRIPTION:La vision d’une institution est le chemin qu’elle veut parcourir et la destination qu’elle entend atteindre. Celle des HUG se compose de cinq axes stratégiques \n\nExceller pour le patient\nDonner du sens à l’engagement des collaborateurs\nMieux travailler ensemble\nAffirmer la place des HUG dans le réseau de santé lémanique\nSe préparer pour le futur\n \n					Vision des HUG\n					 \n				 \n			 \n			 \n				\n				\n				\n				\n				\n				Retour sur la vague « COVID-19 » aux soins intensifs : qu’avons-nous appris ?\nProgramme:  \n8h00-8h30 : Retour sur la vague « COVID-19 » aux soins intensifs : qu’avons-nous appris ? avec Pr J. Pugin \n8h30-08h45 : Actualités SARS-CoV2 et COVID-19 \n\n\nPosez vos questions en direct à \ncolloquesdumardi@hcuge.ch \nENTREE INTERDITE \nLe colloque du mardi du 23.06.20 sera diffusé en direct sur :https://www.hug-ge.ch/departement-medecine/colloques-du-mardi-230620 \nPublic : médecins en médecine interne \n\nRetour sur les autres événements de santé : www.rdvsante.ch \n \n\n 
URL:https://rdvsante.ch/event/live-stream-colloque-du-mardi-retour-sur-la-vague-covid-19-aux-soins-intensifs-quavons-nous-appris/
LOCATION:HUG – Live Stream
ATTACH;FMTTYPE=image/jpeg:https://rdvsante.ch/wp-content/uploads/2020/04/HUG.jpg
END:VEVENT
END:VCALENDAR