



BEGIN:VCALENDAR
VERSION:2.0
PRODID:-//Rendez-vous santé - ECPv5.8.1//NONSGML v1.0//EN
CALSCALE:GREGORIAN
METHOD:PUBLISH
X-WR-CALNAME:Rendez-vous santé
X-ORIGINAL-URL:https://rdvsante.ch
X-WR-CALDESC:évènements pour Rendez-vous santé
BEGIN:VTIMEZONE
TZID:Europe/Zurich
BEGIN:DAYLIGHT
TZOFFSETFROM:+0100
TZOFFSETTO:+0200
TZNAME:CEST
DTSTART:20210328T010000
END:DAYLIGHT
BEGIN:STANDARD
TZOFFSETFROM:+0200
TZOFFSETTO:+0100
TZNAME:CET
DTSTART:20211031T010000
END:STANDARD
END:VTIMEZONE
BEGIN:VEVENT
DTSTART;TZID=Europe/Zurich:20210322T194500
DTEND;TZID=Europe/Zurich:20210322T211500
DTSTAMP:20260421T153229
CREATED:20210223T083711Z
LAST-MODIFIED:20210223T084019Z
UID:31234-1616442300-1616447700@rdvsante.ch
SUMMARY:Phytothérapie topique – la pharmacie maison pour toute la famille
DESCRIPTION:L’entreprise ebi-pharm a été fondée en 1988 avec pour objectif de créer un lien entre la médecine académique conventionnelle et la médecine expérimentale. \n					ebi-pharm\n					 \n				 \n			 \n			 \n				\n				\n				\n				\n				\n				\nPhytothérapie topique – la pharmacie maison pour toute la famille\n\nAvec des enfants à la maison\, un imprévu est vite arrivé. Une brûlure par-ci\, une chute par-là\, sans oublier les refroidissements inévitables. En cas de maladies ou de blessures\, les enfants ont toujours besoin d’un traitement spécifique et approprié. Faisant usage de pharmacie maison pour toute la famille\, la phytothérapie topique douce représente une solution idéale et peut être utilisée rapidement et facilement dans de nombreux cas.De haute qualité\, les lingettes et les huiles de plantes fraîches d’ALPMED\, situé au coeur de l’Oberland bernois\, ont fait leur preuve depuis de nombreuses années comme produits bioénergétiques pour l’application de compresses\, pour les bains et les massages et peuvent être utilisées\, en externe\, pour soulager et traiter tous les petits bobos du quotidien. Le maniement très simple et le contact doux que demandent leur application\, représentent des aspects importants qui encouragent l’utilisation de la phytothérapie topique\, en particulier chez l’enfant.Ce séminaire propose de nombreux et précieux conseils issus de la pratique et présente également les multiples possibilités d’application de cette forme de traitement simple et moderne. \nAnimateur(trice): \nSimone El Alaili\, pharmacienne & herboriste\, Medical Advisor chez ebi-pharm ag \nInscription : \nInscription (gotowebinar.com) \n\n\nPublic : pharmacien.ne\, droguiste \nAccréditations: ASD 2 Points\, ASCA \n  \nRetour sur les autres événements de santé : www.rdvsante.ch \n\n\n  \n \n \n \n 
URL:https://rdvsante.ch/event/phytotherapie-topique-la-pharmacie-maison-pour-toute-la-famille/
LOCATION:Swisswebinar
ATTACH;FMTTYPE=image/jpeg:https://rdvsante.ch/wp-content/uploads/2020/06/ebipharm.jpg
END:VEVENT
END:VCALENDAR