



BEGIN:VCALENDAR
VERSION:2.0
PRODID:-//Rendez-vous santé - ECPv5.8.1//NONSGML v1.0//EN
CALSCALE:GREGORIAN
METHOD:PUBLISH
X-WR-CALNAME:Rendez-vous santé
X-ORIGINAL-URL:https://rdvsante.ch
X-WR-CALDESC:évènements pour Rendez-vous santé
BEGIN:VTIMEZONE
TZID:Europe/Zurich
BEGIN:DAYLIGHT
TZOFFSETFROM:+0100
TZOFFSETTO:+0200
TZNAME:CEST
DTSTART:20210328T010000
END:DAYLIGHT
BEGIN:STANDARD
TZOFFSETFROM:+0200
TZOFFSETTO:+0100
TZNAME:CET
DTSTART:20211031T010000
END:STANDARD
END:VTIMEZONE
BEGIN:VEVENT
DTSTART;TZID=Europe/Zurich:20210316T201500
DTEND;TZID=Europe/Zurich:20210316T210000
DTSTAMP:20260421T181048
CREATED:20210223T083133Z
LAST-MODIFIED:20210223T083207Z
UID:31227-1615925700-1615928400@rdvsante.ch
SUMMARY:Similasan: le rhume des foins et autres affections allergiques
DESCRIPTION:Similasan allie la force de l’être humain à celle de la nature\, crée en conséquence des solutions durables pour la santé et le bien-être et conquiert ainsi les marchés internationaux. \n  \n					Notre Vision\n					 \n				 \n			 \n			 \n				\n				\n				\n				\n				\n				Similasan: le rhume des foins et autres affections allergiques\nIntroduction : \nTraiter le rhume des foins ou d’autres allergies naturellement sans antihistaminiques qui fatigue. Comment conseiller vos clients pour qu’ils puissent profiter de la nature. \nConférencière: \nPonnamy Zürcher-Sun\, Brand Manager OTC Similasan AG\, Droguiste dipl. ES \nInscription : \nBienvenue (swisswebinar.ch) \n\n\nCertification : \nLe webinaire est certifié par l’Association suisse des droguistes et donne lieu à 1 point de formation pour une participation active. \nRetrouvez tous les événements de santé sur www.rdvsante.ch \n\n\n  \n \n 
URL:https://rdvsante.ch/event/similasan-le-rhume-des-foins-et-autres-affections-allergiques/
LOCATION:Swisswebinar
ATTACH;FMTTYPE=image/png:https://rdvsante.ch/wp-content/uploads/2021/01/similasan-template.png
END:VEVENT
END:VCALENDAR