



BEGIN:VCALENDAR
VERSION:2.0
PRODID:-//Rendez-vous santé - ECPv5.8.1//NONSGML v1.0//EN
CALSCALE:GREGORIAN
METHOD:PUBLISH
X-WR-CALNAME:Rendez-vous santé
X-ORIGINAL-URL:https://rdvsante.ch
X-WR-CALDESC:évènements pour Rendez-vous santé
BEGIN:VTIMEZONE
TZID:Europe/Zurich
BEGIN:DAYLIGHT
TZOFFSETFROM:+0100
TZOFFSETTO:+0200
TZNAME:CEST
DTSTART:20200329T010000
END:DAYLIGHT
BEGIN:STANDARD
TZOFFSETFROM:+0200
TZOFFSETTO:+0100
TZNAME:CET
DTSTART:20201025T010000
END:STANDARD
END:VTIMEZONE
BEGIN:VEVENT
DTSTART;TZID=Europe/Zurich:20200915T090000
DTEND;TZID=Europe/Zurich:20200915T160000
DTSTAMP:20260421T181323
CREATED:20200818T104152Z
LAST-MODIFIED:20200818T104155Z
UID:30377-1600160400-1600185600@rdvsante.ch
SUMMARY:Soin des plaies et pansements : Bonnes pratiques et utilisation du matériel adéquat
DESCRIPTION:INNOVATION \, EXCELLENCE et CONVIVIALITE! \n					Devise du CAP\n					 \n				 \n			 \n			 \n				\n				\n				\n				\n				\n				Soin des plaies et pansements : Bonnes pratiques et utilisation du matériel adéquat – Tout public – Cours pour assistantes et pour pharmaciens\nObjectifs: \nPrise en charge d’une plaie en officine : quel soin adapter\, quel pansement pour quel type de plaie\, évolution de la plaie dans le temps et changement du pansement. \n\nEtre capable d’appliquer le soin adapté au type de plaie\nConnaître l’utilisation du matériel de soin des plaies : compresses\, sparadraps\, bandes de gaze et  produits destinés  au nettoyage des plaies\nEtre capable d’appliquer le bon suivi de la plaie en officine\n\n  \nAnimateur(trice): \nIsabelle Hegglin\, préparatrice en pharmacie\, Brevet fédéral de formatrice d’adultes. Animatrice de cours interentreprises destinés aux assistants (es) en pharmacie du canton du Valais\, experte aux examens CFC \n\n\nPrix :CHF 140.- pour les membres du CAP \nCHF 140.- pour les non-membres \nInscription : \nSecrétariat du CAP\, Juste Olivier 16\, 1260 Nyon\, tél. 022 363 00 80\, fax 022 363 00 85 \nhttps://www.pharmacap.ch/fr/programme_d_activites.html \nPublic : pharmacien.ne\, assistant.e en pharmacie \n  \nRetour sur les autres événements de santé : www.rdvsante.ch \n\n\n 
URL:https://rdvsante.ch/event/soin-des-plaies-et-pansements-bonnes-pratiques-et-utilisation-du-materiel-adequat/
LOCATION:Hôtel Longeraie\, Route de la Longeraie 14\, Morges\, Vaud\, 1110\, Suisse
ATTACH;FMTTYPE=image/jpeg:https://rdvsante.ch/wp-content/uploads/2020/02/cap-1.jpg
END:VEVENT
END:VCALENDAR