



BEGIN:VCALENDAR
VERSION:2.0
PRODID:-//Rendez-vous santé - ECPv5.8.1//NONSGML v1.0//EN
CALSCALE:GREGORIAN
METHOD:PUBLISH
X-WR-CALNAME:Rendez-vous santé
X-ORIGINAL-URL:https://rdvsante.ch
X-WR-CALDESC:évènements pour Rendez-vous santé
BEGIN:VTIMEZONE
TZID:Europe/Zurich
BEGIN:DAYLIGHT
TZOFFSETFROM:+0100
TZOFFSETTO:+0200
TZNAME:CEST
DTSTART:20200329T010000
END:DAYLIGHT
BEGIN:STANDARD
TZOFFSETFROM:+0200
TZOFFSETTO:+0100
TZNAME:CET
DTSTART:20201025T010000
END:STANDARD
END:VTIMEZONE
BEGIN:VEVENT
DTSTART;TZID=Europe/Zurich:20200324T100000
DTEND;TZID=Europe/Zurich:20200324T140000
DTSTAMP:20260421T204342
CREATED:20200227T204938Z
LAST-MODIFIED:20200310T195551Z
UID:29747-1585044000-1585058400@rdvsante.ch
SUMMARY:[ANNULE] Stands employeurs - INDUSTRIES : Biologie\, Chimie\, Pharma\, Santé
DESCRIPTION:Le centre de carrière pour permet de rencontrer des employeurs – INDUSTRIES : Biologie\, Chimie\, Pharma\, Santé\nDes stands seront tenus de 10h00 à 14h00. Durant cette journée\, venez rencontrer : \nAltran \nLeader mondial du conseil en innovation et ingénierie avancée\, Altran propose à ses clients d’innover autrement en les aidant à développer ou en développant pour eux les produits et les services de demain. Nos domaines d’expertise: sciences de la vie\, industrie\, ferroviaire\, finance\, télécoms… \nFirmenich \nà venir \nGalaniCare Management \nGalenicare gère avec succès les chaînes de pharmacies Amavita\, Sun Store et Coop Vitality dans toute la Suisse. Notre réseau de pharmacies comprend environ 350 sites et des millions de clients. Sur un marché de la santé extrêmement dynamique\, nous jouons un rôle actif pour façonner l’avenir. \nMedicines for Malaria Venture \nMedicines for Malaria Venture (MMV) is a leading product development partnership (PDP) in the field of antimalarial drug research and development. Its mission is to reduce the burden of malaria in disease-endemic countries by discovering\, developing and delivering new\, effective and affordable antimalarial drugs. \nPharmaGenève \nSociété professionnelle des pharmaciens et des pharmacies genevoises\, membre de pharmaSuisse\, qui promeut\, défend et intègre la pharmacie et les pharmaciens dans toutes les structures cantonales touchant aux activités de la santé et participe à tous ses développements politiques et économiques actuels ou futurs. En pharmaGenève\, nos autorités\, nos partenaires des professions de la santé et des réseaux de santé\, nos partenaires sociaux et commerciaux trouveront un interlocuteur fort et capable d’assurer l’avenir de la profession de pharmacien et des pharmacies genevoises. \nPrecision for Medicine \nPassionnées par l’amélioration de la santé des patients\, nos équipes combinent intégration de données cliniques\, IA et bio-informatique pour faciliter la découverte de biomarqueurs. QuartzBio permet aux pharma/biotechs de se concentrer sur la recherche et l’optimisation du développement de nouveaux traitements innovants. \nTradall (Bacardi Group) \nà venir \nAlcimed  \nà venir \nainsi que le stand “CREER SA START-UP” ! \n\n\n  \nPublic : étudiants en sciences\, étudiants en économie\, étudiants en santé \n\n\n 
URL:https://rdvsante.ch/event/stands-employeurs-industries-biologie-chimie-pharma-sante/
LOCATION:Sciences II – Hall\, Quai Ernest-Ansermet 30\, Genève\, Genève\, 1205\, Suisse
CATEGORIES:Formations Foederatio Pharmaceutica Helvetiae
ATTACH;FMTTYPE=image/jpeg:https://rdvsante.ch/wp-content/uploads/2020/02/centre-de-carriere-e1582836553646.jpg
END:VEVENT
END:VCALENDAR