



BEGIN:VCALENDAR
VERSION:2.0
PRODID:-//Rendez-vous santé - ECPv5.8.1//NONSGML v1.0//EN
CALSCALE:GREGORIAN
METHOD:PUBLISH
X-WR-CALNAME:Rendez-vous santé
X-ORIGINAL-URL:https://rdvsante.ch
X-WR-CALDESC:évènements pour Rendez-vous santé
BEGIN:VTIMEZONE
TZID:Europe/Zurich
BEGIN:DAYLIGHT
TZOFFSETFROM:+0100
TZOFFSETTO:+0200
TZNAME:CEST
DTSTART:20200329T010000
END:DAYLIGHT
BEGIN:STANDARD
TZOFFSETFROM:+0200
TZOFFSETTO:+0100
TZNAME:CET
DTSTART:20201025T010000
END:STANDARD
END:VTIMEZONE
BEGIN:VEVENT
DTSTART;TZID=Europe/Zurich:20200407T130000
DTEND;TZID=Europe/Zurich:20200407T180000
DTSTAMP:20260421T215058
CREATED:20200310T222933Z
LAST-MODIFIED:20200310T222936Z
UID:29801-1586264400-1586282400@rdvsante.ch
SUMMARY:Symposium ASI - HUG -IMAD : la collaboration soignante
DESCRIPTION:Symposium ASI – HUG -IMAD : la collaboration soignante\nProgramme : \n13h Accueil Patricia Borrero\, vice-présidente\, ASI Genève Olivier Perrier-Gros-Claude\, directeur des opérations\, imad\n13h10 Evolution du rôle – Rôle infirmier par Walter Zecca\, responsable de la filière des soins infirmiers\, HEdS Genève- Rôle ASSC par Rosalia Grela\, maîtresse adjointe de direction\, filière ASSC-CFC- Rôle ASA par Laurent Malka\, chargé de formation\, HUG\n14h40 Aspects juridiques et responsabilités Me Pierre-André Wagner\, avocat et infirmier\, responsable du service juridique\, ASI Berne\n15h10 Pause\n15h40 Table ronde sur les situations emblématiques – Aux HUG par Catherine Cheminat-Zabjesky\, ARS – Christine Degremont\, RES – Cristel Excoffier\, ASSC – Ludivine Boiche-Brouillard\, infirmière- A imad par Malika Fischer\, infirmière – Steven Thiyogaraja\, ASSC- Dans un EMS par Sylvianne Déturche\, infirmière – Patricia Perret\, ASSC – Daiane Veillard\, ASASuivie d’une discussion animée par Odile Lacour\, infirmière en santé publique\, ASI Genève\n17h20 Take Home Message Odile Lacour\, infirmière en santé publique en charge de la consultation professionnelle\, ASI Genève\n17h40 ConclusionSandra Merkli\, directrice des soins\, HUG\nInscription : Sur ce lien \n\n\nPoints-log 5.00 \nPour participer aux multiples activités telles que des présentations ou des tables rondes\, n’hésitez pas à consulter le programme complet de la journée sur notre site www.rdvsante.ch
URL:https://rdvsante.ch/event/symposium-asi-hug-imad-la-collaboration-soignante/
LOCATION:Auditoire Marcel Jenny\, Rue Gabrielle-Perret-Gentil 4\, Genève\, Genève\, Suisse
CATEGORIES:Opinions de Santé
ATTACH;FMTTYPE=image/png:https://rdvsante.ch/wp-content/uploads/2020/03/collaborationinf-e1583879359339.png
END:VEVENT
END:VCALENDAR