



BEGIN:VCALENDAR
VERSION:2.0
PRODID:-//Rendez-vous santé - ECPv5.8.1//NONSGML v1.0//EN
CALSCALE:GREGORIAN
METHOD:PUBLISH
X-WR-CALNAME:Rendez-vous santé
X-ORIGINAL-URL:https://rdvsante.ch
X-WR-CALDESC:évènements pour Rendez-vous santé
BEGIN:VTIMEZONE
TZID:Europe/Zurich
BEGIN:DAYLIGHT
TZOFFSETFROM:+0100
TZOFFSETTO:+0200
TZNAME:CEST
DTSTART:20200329T010000
END:DAYLIGHT
BEGIN:STANDARD
TZOFFSETFROM:+0200
TZOFFSETTO:+0100
TZNAME:CET
DTSTART:20201025T010000
END:STANDARD
END:VTIMEZONE
BEGIN:VEVENT
DTSTART;TZID=Europe/Zurich:20201008T083000
DTEND;TZID=Europe/Zurich:20201008T173000
DTSTAMP:20260421T191708
CREATED:20201007T132951Z
LAST-MODIFIED:20201007T132954Z
UID:30525-1602145800-1602178200@rdvsante.ch
SUMMARY:Symposium médecine intégrative et cancer 4e édition
DESCRIPTION:IRCM International a pour but de diffuser et de rendreaccessible à un large public – ainsi que chercheurs\, médecins\, scientifiques\, thérapeutes – les recherches les plus récentes dans le domaine des médecines intégratives\, de valider le bon usage des plantes médicinales et de proposer des solutions alternatives ou complémentaires\, là où la médecine classique\, rencontre des difficultés.  \n					IRCM (International Group of Researchers and Development for Complementary Medicine Limited)\n					IRCM (International Group of Researchers and Development for Complementary Medicine Limited) \n				 \n			 \n			 \n				\n				\n				\n				\n				\n				4ème SymposiumMédecine intégrative et Cancer\nProgramme: \nPrésentations des innovations en médecine intégrative dans le traitement des cancers: acupuncture\, auriculothérapie\, cannabis médical\, chirurgie lourde\, huiles essentielles\, jeûne\, (micro)nutrition\, ostéopathie\, pratique officinale\, Qi Gong\, sexologie… \n\nIntervenant.e.s: \nJoâo-Carlos DAS NEVES PEREIRA\, Lucian MACREA\, Alexandre BODMER\, Mauro FRIGERI\, Corinne MONTARU – ROZAIN\, Kiu CARACANI\, Philippe LAMY\, Adrian COMAN\, Irina COSTEA\, Robert GOLAZ\, Anne-Marie GIRAUD \n  \nInscriptions : https://www.ircminternational.com/inscriptionhttp://mie2020.org/en/nous-contacter/contact \n\nCHF 180.- PAUSES ET LUNCH INCLUS\n\nPublic : POUR LES MEDECINS\, pharmaciens\, OSTEOPATHES\, PROFESSIONNELS DE LA SANTE\, chercheurs scientifiques\, THERAPEUTES et POUR tout PUBLIC INTERESSE \nAccréditation :  \n\n\nMédecins: SSMO SSOM SGMO: 6 crédits \nPharmaciens: Points FPH 50
URL:https://rdvsante.ch/event/symposium-medecine-integrative-et-cancer-4e-edition/
LOCATION:Campus Biotech\, Chemin des Mines 9\, Genève\, Genève\, 1202\, Suisse
CATEGORIES:Formations Foederatio Pharmaceutica Helvetiae
ATTACH;FMTTYPE=image/jpeg:https://rdvsante.ch/wp-content/uploads/2020/10/ircm.jpg
END:VEVENT
END:VCALENDAR