



BEGIN:VCALENDAR
VERSION:2.0
PRODID:-//Rendez-vous santé - ECPv5.8.1//NONSGML v1.0//EN
CALSCALE:GREGORIAN
METHOD:PUBLISH
X-WR-CALNAME:Rendez-vous santé
X-ORIGINAL-URL:https://rdvsante.ch
X-WR-CALDESC:évènements pour Rendez-vous santé
BEGIN:VTIMEZONE
TZID:Europe/Zurich
BEGIN:DAYLIGHT
TZOFFSETFROM:+0100
TZOFFSETTO:+0200
TZNAME:CEST
DTSTART:20200329T010000
END:DAYLIGHT
BEGIN:STANDARD
TZOFFSETFROM:+0200
TZOFFSETTO:+0100
TZNAME:CET
DTSTART:20201025T010000
END:STANDARD
END:VTIMEZONE
BEGIN:VEVENT
DTSTART;TZID=Europe/Zurich:20201201T194500
DTEND;TZID=Europe/Zurich:20201201T213000
DTSTAMP:20260421T124129
CREATED:20201128T090915Z
LAST-MODIFIED:20210131T083116Z
UID:30723-1606851900-1606858200@rdvsante.ch
SUMMARY:Webinaire pro : "Drainer c'est bien\, détoxiquer et protéger c'est mieux !"
DESCRIPTION:Des produits innovants\, en phase avec les attentes des professionnels de santé \n					Credo de Vitanutrics\n					 \n				 \n			 \n			 \n				\n				\n				\n				\n				\n				“La stéatose hépatique non alcoolique” – une approche micronutritionnelle\nProgramme: \n20h00 DÉBUT DU WEBINAIRE \n21h00 FIN DU WEBINAIRE \n21h00 QUESTIONS / RÉPONSES ÉVENTUELLES \nCommentaire: \n\n\nParfois appelée « maladie du soda »\, « NAFLD » (non alcoholic fatty liver disease) ou encore  « maladie du foie gras »\, la stéatose hépatique non alcoolique est en recrudescence : elle touche 23% des Européens et est en nette progression chez les adultes et les enfants. \nSi la stéatose hépatique non alcoolique est réversible\, elle peut néanmoins évoluer vers une hépatite voire un carcinome hépatocellulaire. De plus\, elle est associée à une forte comorbidité. \nBien que les signes cliniques soient souvent absents\, de nombreux déséquilibres apparaissent : troubles de la glycémie\, terrain inflammatoire\, augmentation des graisses viscérales… \nLors de cette e-conférence\, Vitanutrics vous propose de refaire le point sur la stéatose hépatique et notamment sur :1)  Les facteurs de risques2) Ses conséquences3) Les déséquilibres physiologiques caractéristiques4) La prise en charge par une approche intégrée : activité physique\, nutrition et micronutrition. \nL’importance de l’apport de nombreux nutriments sera abordée : Oméga 3\, Chardon Marie\, catéchine (thé vert)\, sulforaphane (brocoli)\, taurine\, choline\, molybdène\, acide alpha-lipoïque\, etc. Leur rôle sur la biochimie hépatique sera également développé au cours de cette e-conférence. \nPour participer aux multiples activités telles que des présentations ou des tables rondes\, n’hésitez pas à consulter le programme complet de la journée sur notre site www.rdvsante.ch \n  \n\n\nIntervenant: Dr Ludovic Rondini \nFrais de participation CHF 0.- \nInscriptions \nPublic : médecins\, pharmaciens \n\n\n 
URL:https://rdvsante.ch/event/webinaire-pro-drainer-cest-bien-detoxiquer-et-proteger-cest-mieux/
LOCATION:Conférence ZOOM
ORGANIZER;CN="VITANUTRICS":MAILTO:info@vitanutrics.com
END:VEVENT
END:VCALENDAR