



BEGIN:VCALENDAR
VERSION:2.0
PRODID:-//Rendez-vous santé - ECPv5.8.1//NONSGML v1.0//EN
CALSCALE:GREGORIAN
METHOD:PUBLISH
X-WR-CALNAME:Rendez-vous santé
X-ORIGINAL-URL:https://rdvsante.ch
X-WR-CALDESC:évènements pour Rendez-vous santé
BEGIN:VTIMEZONE
TZID:Europe/Zurich
BEGIN:DAYLIGHT
TZOFFSETFROM:+0100
TZOFFSETTO:+0200
TZNAME:CEST
DTSTART:20200329T010000
END:DAYLIGHT
BEGIN:STANDARD
TZOFFSETFROM:+0200
TZOFFSETTO:+0100
TZNAME:CET
DTSTART:20201025T010000
END:STANDARD
END:VTIMEZONE
BEGIN:VEVENT
DTSTART;TZID=Europe/Zurich:20200629T200000
DTEND;TZID=Europe/Zurich:20200629T210000
DTSTAMP:20260421T164243
CREATED:20200608T194231Z
LAST-MODIFIED:20200608T194234Z
UID:30139-1593460800-1593464400@rdvsante.ch
SUMMARY:[Webinaire] Traiter l'anxiété et les troubles du sommeil grâce à la médecine complémentaire
DESCRIPTION:L’entreprise ebi-pharm a été fondée en 1988 avec pour objectif de créer un lien entre la médecine académique conventionnelle et la médecine expérimentale. \n					ebi-pharm\n					 \n				 \n			 \n			 \n				\n				\n				\n				\n				\n				Traiter l’anxiété et les troubles du sommeil grâce à la médecine complémentaire\nL’anxiété peut parfois nous envahir très rapidement et créer des sentiments assez forts comme de la peur ou de l’inquiétude. Parfois cet état se manifeste sans stimuli identifiable\, juste une sensation de nœud dans le ventre.Chaque personne doit faire face\, au quotidien\, à des événements extérieurs et intérieurs qui vont influencer sa “tranquillité d’esprit”. Si ces tensions perdurent\, le cycle du sommeil peut être perturbé et un cercle vicieux va s’installer souvent progressivement…Durant ce webinaire\, nous explorerons quelques pistes pour améliorer notre état grâce à la médecine complémentaire. \nAnimateur(trice): \nSimone El Alaili\, pharmacienne & herboriste\, Medical Advisor chez ebi-pharm ag \n\n\nPrix :Libre \nPublic : pharmacien.ne\, médecin\, nutritionniste\, étudiant.e.s \nASD 1 point \n  \nRetour sur les autres événements de santé : www.rdvsante.ch \n\n\n 
URL:https://rdvsante.ch/event/webinaire-traiter-lanxiete-et-les-troubles-du-sommeil-grace-a-la-medecine-complementaire/
LOCATION:Conférence ZOOM
ATTACH;FMTTYPE=image/jpeg:https://rdvsante.ch/wp-content/uploads/2020/06/ebipharm.jpg
END:VEVENT
END:VCALENDAR